
BEGIN:VCALENDAR
VERSION:2.0
PRODID:-//Etkinlikvarmi//Takvime Ekle//TR
BEGIN:VEVENT
UID:69e4f027dbc09@etkinlikvarmi.com
DTSTAMP:20260419T150927Z
DTSTART:20260511T200000
DTEND:20260511T220000
SUMMARY:Kadınlık Bizde Kalsın - Sevme Beni
LOCATION:MEB Şura Salonu, Ankara
DESCRIPTION:Kadınlık Bizde Kalsın - Sevme Beni etkinliği Ankara şehrinde MEB Şura Salonu mekanında.
END:VEVENT
END:VCALENDAR
