
BEGIN:VCALENDAR
VERSION:2.0
PRODID:-//Etkinlikvarmi//Takvime Ekle//TR
BEGIN:VEVENT
UID:69e4ee21410e9@etkinlikvarmi.com
DTSTAMP:20260419T150049Z
DTSTART:20260504T203000
DTEND:20260504T223000
SUMMARY:Hadi Öldürsene Canikom
LOCATION:İstinyeArt Performans Arena, İzmir
DESCRIPTION:Hadi Öldürsene Canikom etkinliği İzmir şehrinde İstinyeArt Performans Arena mekanında.
END:VEVENT
END:VCALENDAR
