
BEGIN:VCALENDAR
VERSION:2.0
PRODID:-//Etkinlikvarmi//Takvime Ekle//TR
BEGIN:VEVENT
UID:69e4f02d683be@etkinlikvarmi.com
DTSTAMP:20260419T150933Z
DTSTART:20260425T213000
DTEND:20260425T233000
SUMMARY:Ada Sanlıman Quartet - Büyüleyici Bir Hikayenin İkinci Perdesi
LOCATION:Asa Khai Jazz Club, İstanbul
DESCRIPTION:Ada Sanlıman Quartet - Büyüleyici Bir Hikayenin İkinci Perdesi etkinliği İstanbul şehrinde Asa Khai Jazz Club mekanında.
END:VEVENT
END:VCALENDAR
