
BEGIN:VCALENDAR
VERSION:2.0
PRODID:-//Etkinlikvarmi//Takvime Ekle//TR
BEGIN:VEVENT
UID:69e4f027dc03d@etkinlikvarmi.com
DTSTAMP:20260419T150927Z
DTSTART:20260424T213000
DTEND:20260424T233000
SUMMARY:Brenda Berin Quartet - Baharın Enerjisi İle Kıpır Kıpır Bir Gece
LOCATION:Asa Khai Jazz Club, İstanbul
DESCRIPTION:Brenda Berin Quartet - Baharın Enerjisi İle Kıpır Kıpır Bir Gece etkinliği İstanbul şehrinde Asa Khai Jazz Club mekanında.
END:VEVENT
END:VCALENDAR
