
BEGIN:VCALENDAR
VERSION:2.0
PRODID:-//Etkinlikvarmi//Takvime Ekle//TR
BEGIN:VEVENT
UID:69e4f027dc5ef@etkinlikvarmi.com
DTSTAMP:20260419T150927Z
DTSTART:20260422T213000
DTEND:20260422T233000
SUMMARY:Standarts With Friends Feat Serra Erkoç - Enerjisi Yüksek Bir Müzikal Yolculuk
LOCATION:Asa Khai Jazz Club, İstanbul
DESCRIPTION:Standarts With Friends Feat Serra Erkoç - Enerjisi Yüksek Bir Müzikal Yolculuk etkinliği İstanbul şehrinde Asa Khai Jazz Club mekanında.
END:VEVENT
END:VCALENDAR
