
BEGIN:VCALENDAR
VERSION:2.0
PRODID:-//Etkinlikvarmi//Takvime Ekle//TR
BEGIN:VEVENT
UID:69e4f027dc1cd@etkinlikvarmi.com
DTSTAMP:20260419T150927Z
DTSTART:20260430T203000
DTEND:20260430T223000
SUMMARY:Alper Kul - Çok Tatlı Bi Hikaye Ama Finalde Üzüyor Az Biraz

LOCATION:Nihat Gökyiğit Kongre ve KM, Artvin
DESCRIPTION:Alper Kul - Çok Tatlı Bi Hikaye Ama Finalde Üzüyor Az Biraz
 etkinliği Artvin şehrinde Nihat Gökyiğit Kongre ve KM mekanında.
END:VEVENT
END:VCALENDAR
