
BEGIN:VCALENDAR
VERSION:2.0
PRODID:-//Etkinlikvarmi//Takvime Ekle//TR
BEGIN:VEVENT
UID:69e4ea2f64efb@etkinlikvarmi.com
DTSTAMP:20260419T144359Z
DTSTART:20260422T210000
DTEND:20260422T230000
SUMMARY:Halil Sezai
LOCATION:Jolly Joker Kartal İstMarina, İstanbul
DESCRIPTION:Halil Sezai etkinliği İstanbul şehrinde Jolly Joker Kartal İstMarina mekanında.
END:VEVENT
END:VCALENDAR
