
BEGIN:VCALENDAR
VERSION:2.0
PRODID:-//Etkinlikvarmi//Takvime Ekle//TR
BEGIN:VEVENT
UID:69e4f087c680d@etkinlikvarmi.com
DTSTAMP:20260419T151103Z
DTSTART:20260502T220000
DTEND:20260503T000000
SUMMARY:DJ Fırat Canpolat ile 90lar 2000ler Türkçe Pop Partisi
LOCATION:Mask Beach, İstanbul
DESCRIPTION:DJ Fırat Canpolat ile 90lar 2000ler Türkçe Pop Partisi etkinliği İstanbul şehrinde Mask Beach mekanında.
END:VEVENT
END:VCALENDAR
