
BEGIN:VCALENDAR
VERSION:2.0
PRODID:-//Etkinlikvarmi//Takvime Ekle//TR
BEGIN:VEVENT
UID:69e4eab5c4e96@etkinlikvarmi.com
DTSTAMP:20260419T144613Z
DTSTART:20260508T200000
DTEND:20260508T220000
SUMMARY:Şebbaz
LOCATION:MEB Şura Salonu, Ankara
DESCRIPTION:Şebbaz etkinliği Ankara şehrinde MEB Şura Salonu mekanında.
END:VEVENT
END:VCALENDAR
