
BEGIN:VCALENDAR
VERSION:2.0
PRODID:-//Etkinlikvarmi//Takvime Ekle//TR
BEGIN:VEVENT
UID:69e4f05c06ea4@etkinlikvarmi.com
DTSTAMP:20260419T151020Z
DTSTART:20260425T210000
DTEND:20260425T230000
SUMMARY:Sing With Brothers
LOCATION:Han Spaces, İstanbul
DESCRIPTION:Sing With Brothers etkinliği İstanbul şehrinde Han Spaces mekanında.
END:VEVENT
END:VCALENDAR
