
BEGIN:VCALENDAR
VERSION:2.0
PRODID:-//Etkinlikvarmi//Takvime Ekle//TR
BEGIN:VEVENT
UID:69e4ea16d58cf@etkinlikvarmi.com
DTSTAMP:20260419T144334Z
DTSTART:20260421T202000
DTEND:20260421T222000
SUMMARY:Terapi Stand Up 3'lü Şov

LOCATION:Haymatlos Mekan, Ankara
DESCRIPTION:Terapi Stand Up 3'lü Şov
 etkinliği Ankara şehrinde Haymatlos Mekan mekanında.
END:VEVENT
END:VCALENDAR
