
BEGIN:VCALENDAR
VERSION:2.0
PRODID:-//Etkinlikvarmi//Takvime Ekle//TR
BEGIN:VEVENT
UID:69e4f027dbd9b@etkinlikvarmi.com
DTSTAMP:20260419T150927Z
DTSTART:20260508T190000
DTEND:20260508T210000
SUMMARY:Yaratıcı Farkındalık ile Resmi Okumak, Manzarayı Dinlemek
LOCATION:Pera Müzesi, İstanbul
DESCRIPTION:Yaratıcı Farkındalık ile Resmi Okumak, Manzarayı Dinlemek etkinliği İstanbul şehrinde Pera Müzesi mekanında.
END:VEVENT
END:VCALENDAR
