
BEGIN:VCALENDAR
VERSION:2.0
PRODID:-//Etkinlikvarmi//Takvime Ekle//TR
BEGIN:VEVENT
UID:69e4ee2142188@etkinlikvarmi.com
DTSTAMP:20260419T150049Z
DTSTART:20260511T203000
DTEND:20260511T223000
SUMMARY:Eşyanın Tabiatı
LOCATION:BAOB Sahne, Bursa
DESCRIPTION:Eşyanın Tabiatı etkinliği Bursa şehrinde BAOB Sahne mekanında.
END:VEVENT
END:VCALENDAR
