
BEGIN:VCALENDAR
VERSION:2.0
PRODID:-//Etkinlikvarmi//Takvime Ekle//TR
BEGIN:VEVENT
UID:69e4ea70d61d3@etkinlikvarmi.com
DTSTAMP:20260419T144504Z
DTSTART:20260506T201500
DTEND:20260506T221500
SUMMARY:Dönüşüm
LOCATION:Necip Fazıl Kısakürek K.M., Erzurum
DESCRIPTION:Dönüşüm etkinliği Erzurum şehrinde Necip Fazıl Kısakürek K.M. mekanında.
END:VEVENT
END:VCALENDAR
