
BEGIN:VCALENDAR
VERSION:2.0
PRODID:-//Etkinlikvarmi//Takvime Ekle//TR
BEGIN:VEVENT
UID:69e4ee30da8e0@etkinlikvarmi.com
DTSTAMP:20260419T150104Z
DTSTART:20260506T180000
DTEND:20260506T200000
SUMMARY:Çizmeli Kedi
LOCATION:Bursa Tayyare KM, Bursa
DESCRIPTION:Çizmeli Kedi etkinliği Bursa şehrinde Bursa Tayyare KM mekanında.
END:VEVENT
END:VCALENDAR
