
BEGIN:VCALENDAR
VERSION:2.0
PRODID:-//Etkinlikvarmi//Takvime Ekle//TR
BEGIN:VEVENT
UID:69e4ea488659e@etkinlikvarmi.com
DTSTAMP:20260419T144424Z
DTSTART:20260508T230000
DTEND:20260509T010000
SUMMARY:Rubato
LOCATION:Sahne İstanbul, İstanbul
DESCRIPTION:Rubato etkinliği İstanbul şehrinde Sahne İstanbul mekanında.
END:VEVENT
END:VCALENDAR
