
BEGIN:VCALENDAR
VERSION:2.0
PRODID:-//Etkinlikvarmi//Takvime Ekle//TR
BEGIN:VEVENT
UID:69e4f08366b93@etkinlikvarmi.com
DTSTAMP:20260419T151059Z
DTSTART:20260426T153000
DTEND:20260426T173000
SUMMARY:Türk Müziği Konserleri : Ahmet Râsim - Osman Nihat Akın : Dede ve Torun
LOCATION:Pera Müzesi, İstanbul
DESCRIPTION:Türk Müziği Konserleri : Ahmet Râsim - Osman Nihat Akın : Dede ve Torun etkinliği İstanbul şehrinde Pera Müzesi mekanında.
END:VEVENT
END:VCALENDAR
