
BEGIN:VCALENDAR
VERSION:2.0
PRODID:-//Etkinlikvarmi//Takvime Ekle//TR
BEGIN:VEVENT
UID:69e4ee21515ce@etkinlikvarmi.com
DTSTAMP:20260419T150049Z
DTSTART:20260505T193000
DTEND:20260505T213000
SUMMARY:7 Kocalı Hürmüz
LOCATION:Kapadokya Kültür ve Sanat Merkezi, Nevşehir
DESCRIPTION:7 Kocalı Hürmüz etkinliği Nevşehir şehrinde Kapadokya Kültür ve Sanat Merkezi mekanında.
END:VEVENT
END:VCALENDAR
