
BEGIN:VCALENDAR
VERSION:2.0
PRODID:-//Etkinlikvarmi//Takvime Ekle//TR
BEGIN:VEVENT
UID:69e4f02d83aad@etkinlikvarmi.com
DTSTAMP:20260419T150933Z
DTSTART:20260505T223000
DTEND:20260506T003000
SUMMARY:Utku Çelebi &amp; Balkan Band ile Hıdırellez Şenliği
LOCATION:Mask Beach, İstanbul
DESCRIPTION:Utku Çelebi &amp; Balkan Band ile Hıdırellez Şenliği etkinliği İstanbul şehrinde Mask Beach mekanında.
END:VEVENT
END:VCALENDAR
